BEGIN:VCALENDAR
VERSION:2.0
CALSCALE:GREGORIAN
PRODID:-//Diputació de Barcelona//DibaCMS//EN
BEGIN:VEVENT
UID:26198
DTSTAMP:20260422T012329
DTSTART:20240308T203000
DTEND:20240308T203000
SUMMARY:8M. XXVè Sopar de Dones
LOCATION:
METHOD:PUBLISH
X-WR-CALNAME:caldesm@caldesdemontbui.cat
X-WR-TIMEZONE:Europe/Madrid
DESCRIPTION:
URI:https://www.caldesdemontbui.cat/actualitat/agenda/8m-xxve-sopar-de-dones.html
CLASS:PUBLIC
END:VEVENT
END:VCALENDAR
