BEGIN:VCALENDAR
VERSION:2.0
CALSCALE:GREGORIAN
PRODID:-//Diputació de Barcelona//DibaCMS//EN
BEGIN:VEVENT
UID:26197
DTSTAMP:20260423T010918
DTSTART:20240308T183000
DTEND:20240308T183000
SUMMARY:8M.  Inauguració de l'exposició "Dones en complicitat VI"
LOCATION:
METHOD:PUBLISH
X-WR-CALNAME:caldesm@caldesdemontbui.cat
X-WR-TIMEZONE:Europe/Madrid
DESCRIPTION:
URI:https://www.caldesdemontbui.cat/actualitat/agenda/8m-inauguracio-de-lexposicio-dones-en-complicitat-vi.html
CLASS:PUBLIC
END:VEVENT
END:VCALENDAR
