BEGIN:VCALENDAR
VERSION:2.0
CALSCALE:GREGORIAN
PRODID:-//Diputació de Barcelona//DibaCMS//EN
BEGIN:VEVENT
UID:26196
DTSTAMP:20260421T233753
DTSTART:20240308T180000
DTEND:20240308T180000
SUMMARY:8M. Lectura Institucional del Manifest, Dia Internacional de les Dones
LOCATION:Carrer del Pont, 3 08140 Caldes de Montbui
METHOD:PUBLISH
X-WR-CALNAME:caldesm@caldesdemontbui.cat
X-WR-TIMEZONE:Europe/Madrid
DESCRIPTION:
URI:https://www.caldesdemontbui.cat/actualitat/agenda/8m-lectura-institucional-del-manifest-dia-internacional-de-les-dones.html
CLASS:PUBLIC
END:VEVENT
END:VCALENDAR
