BEGIN:VCALENDAR
VERSION:2.0
CALSCALE:GREGORIAN
PRODID:-//Diputació de Barcelona//DibaCMS//EN
BEGIN:VEVENT
UID:26194
DTSTAMP:20260421T233854
DTSTART:20240307T193000
DTEND:20240307T193000
SUMMARY:8M. El Joc de les Paraules
LOCATION:
METHOD:PUBLISH
X-WR-CALNAME:caldesm@caldesdemontbui.cat
X-WR-TIMEZONE:Europe/Madrid
DESCRIPTION:
URI:https://www.caldesdemontbui.cat/actualitat/agenda/8m-el-joc-de-les-paraules.html
CLASS:PUBLIC
END:VEVENT
END:VCALENDAR
