BEGIN:VCALENDAR
VERSION:2.0
CALSCALE:GREGORIAN
PRODID:-//Diputació de Barcelona//DibaCMS//EN
BEGIN:VEVENT
UID:26193
DTSTAMP:20260421T233547
DTSTART:20240307T170000
DTEND:20240307T170000
SUMMARY:8M. Taller de catifes i elaboració de la catifa pel dia 8 de març
LOCATION:
METHOD:PUBLISH
X-WR-CALNAME:caldesm@caldesdemontbui.cat
X-WR-TIMEZONE:Europe/Madrid
DESCRIPTION:
URI:https://www.caldesdemontbui.cat/actualitat/agenda/8m-taller-de-catifes-i-elaboracio-de-la-catifa-pel-dia-8-de-marc.html
CLASS:PUBLIC
END:VEVENT
END:VCALENDAR
