BEGIN:VCALENDAR
VERSION:2.0
CALSCALE:GREGORIAN
PRODID:-//Diputació de Barcelona//DibaCMS//EN
BEGIN:VEVENT
UID:26186
DTSTAMP:20260421T215643
DTSTART:20240322T193000
DTEND:20240322T193000
SUMMARY:Activitats de l’Escola de Música Joan Valls del mes de març 
LOCATION:
METHOD:PUBLISH
X-WR-CALNAME:caldesm@caldesdemontbui.cat
X-WR-TIMEZONE:Europe/Madrid
DESCRIPTION:
URI:https://www.caldesdemontbui.cat/actualitat/agenda/activitats-de-lescola-de-musica-joan-valls-del-mes-de-marc-.html
CLASS:PUBLIC
END:VEVENT
END:VCALENDAR
