BEGIN:VCALENDAR
VERSION:2.0
CALSCALE:GREGORIAN
PRODID:-//Diputació de Barcelona//DibaCMS//EN
BEGIN:VEVENT
UID:26183
DTSTAMP:20260421T233447
DTSTART:20240308T110000
DTEND:20240308T110000
SUMMARY:Exposició " De filles a mares", del 7 al 27 de març
LOCATION: Corredossos de Baix, 9-11 (antic 1) 8140 Caldes de Montbui
METHOD:PUBLISH
X-WR-CALNAME:caldesm@caldesdemontbui.cat
X-WR-TIMEZONE:Europe/Madrid
DESCRIPTION:
URI:https://www.caldesdemontbui.cat/actualitat/agenda/exposicio--de-filles-a-mares-del-7-al-27-de-marc.html
CLASS:PUBLIC
END:VEVENT
END:VCALENDAR
