BEGIN:VCALENDAR
VERSION:2.0
CALSCALE:GREGORIAN
PRODID:-//Diputació de Barcelona//DibaCMS//EN
BEGIN:VEVENT
UID:26181
DTSTAMP:20260422T012038
DTSTART:20240306T210000
DTEND:20240306T223000
SUMMARY:Entrenament Rugby&Touch femení obert 
LOCATION:
METHOD:PUBLISH
X-WR-CALNAME:caldesm@caldesdemontbui.cat
X-WR-TIMEZONE:Europe/Madrid
DESCRIPTION:
URI:https://www.caldesdemontbui.cat/actualitat/agenda/entrenament-rugbyandtouch-femeni-obert-.html
CLASS:PUBLIC
END:VEVENT
END:VCALENDAR
