BEGIN:VCALENDAR
VERSION:2.0
CALSCALE:GREGORIAN
PRODID:-//Diputació de Barcelona//DibaCMS//EN
BEGIN:VEVENT
UID:26159
DTSTAMP:20260422T012145
DTSTART:20240225T110000
DTEND:20240225T110000
SUMMARY:V trobada de Sidecars de Catalunya,
LOCATION:
METHOD:PUBLISH
X-WR-CALNAME:caldesm@caldesdemontbui.cat
X-WR-TIMEZONE:Europe/Madrid
DESCRIPTION:
URI:https://www.caldesdemontbui.cat/actualitat/agenda/v-trobada-de-sidecars-de-catalunya.html
CLASS:PUBLIC
END:VEVENT
END:VCALENDAR
