BEGIN:VCALENDAR
VERSION:2.0
CALSCALE:GREGORIAN
PRODID:-//Diputació de Barcelona//DibaCMS//EN
BEGIN:VEVENT
UID:26158
DTSTAMP:20260422T025450
DTSTART:20240227T183000
DTEND:20240227T183000
SUMMARY:El Documental del mes de febrer de la Biblioteca de Caldes de Montbui és “Domingo, Domingo”
LOCATION:Santa Teresa, 3-5 08140 Caldes de Montbui
METHOD:PUBLISH
X-WR-CALNAME:caldesm@caldesdemontbui.cat
X-WR-TIMEZONE:Europe/Madrid
DESCRIPTION:
URI:https://www.caldesdemontbui.cat/actualitat/agenda/el-documental-del-mes-de-febrer-de-la-biblioteca-de-caldes-de-montbui-es-domingo-domingo.html
CLASS:PUBLIC
END:VEVENT
END:VCALENDAR
