BEGIN:VCALENDAR
VERSION:2.0
CALSCALE:GREGORIAN
PRODID:-//Diputació de Barcelona//DibaCMS//EN
BEGIN:VEVENT
UID:26146
DTSTAMP:20260422T012016
DTSTART:20240305T180000
DTEND:20240305T180000
SUMMARY:Portes Obertes 2024.  Xerrada amb l'equip directiu + visita al centre i tallers a l'Institut Manolo Hugué
LOCATION:Josep Germà, 2 08140 Caldes de Montbui
METHOD:PUBLISH
X-WR-CALNAME:caldesm@caldesdemontbui.cat
X-WR-TIMEZONE:Europe/Madrid
DESCRIPTION:
URI:https://www.caldesdemontbui.cat/actualitat/agenda/portes-obertes-2024-xerrada-amb-lequip-directiu--visita-al-centre-i-tallers-a-linstitut-manolo-hugue.html
CLASS:PUBLIC
END:VEVENT
END:VCALENDAR
