BEGIN:VCALENDAR
VERSION:2.0
CALSCALE:GREGORIAN
PRODID:-//Diputació de Barcelona//DibaCMS//EN
BEGIN:VEVENT
UID:26143
DTSTAMP:20260421T234753
DTSTART:20240226T180000
DTEND:20240226T180000
SUMMARY:Portes Obertes 2024.  Xerrada infantil i 1r d'ESO + visita a l'Institut Escola Caldes de Montbui
LOCATION:M. Aurèlia Capmany, 2 08140 Caldes de Montbui
METHOD:PUBLISH
X-WR-CALNAME:caldesm@caldesdemontbui.cat
X-WR-TIMEZONE:Europe/Madrid
DESCRIPTION:
URI:https://www.caldesdemontbui.cat/actualitat/agenda/portes-obertes-2024-xerrada-infantil-i-1r-deso--visita-a-linstitut-escola-caldes-de-montbui.html
CLASS:PUBLIC
END:VEVENT
END:VCALENDAR
