BEGIN:VCALENDAR
VERSION:2.0
CALSCALE:GREGORIAN
PRODID:-//Diputació de Barcelona//DibaCMS//EN
BEGIN:VEVENT
UID:26141
DTSTAMP:20260422T042221
DTSTART:20240224T091500
DTEND:20240224T130000
SUMMARY:Portes Obertes 2024.  Xerrada informativa + visita guiada per l'Escola Montbui
LOCATION:C. Dr. Fleming S/N 08140 Caldes de Montbui
METHOD:PUBLISH
X-WR-CALNAME:caldesm@caldesdemontbui.cat
X-WR-TIMEZONE:Europe/Madrid
DESCRIPTION:
URI:https://www.caldesdemontbui.cat/actualitat/agenda/portes-obertes-2024-xerrada-informativa--visita-guiada-per-lescola-montbui.html
CLASS:PUBLIC
END:VEVENT
END:VCALENDAR
