BEGIN:VCALENDAR
VERSION:2.0
CALSCALE:GREGORIAN
PRODID:-//Diputació de Barcelona//DibaCMS//EN
BEGIN:VEVENT
UID:26140
DTSTAMP:20260422T061543
DTSTART:20240221T091500
DTEND:20240221T123000
SUMMARY:Portes Obertes 2024.  Visita escola en viu + xerrada informativa a l'Escola Montbui
LOCATION:C. Dr. Fleming S/N 08140 Caldes de Montbui
METHOD:PUBLISH
X-WR-CALNAME:caldesm@caldesdemontbui.cat
X-WR-TIMEZONE:Europe/Madrid
DESCRIPTION:
URI:https://www.caldesdemontbui.cat/actualitat/agenda/portes-obertes-2024-visita-escola-en-viu--xerrada-informativa-a-lescola-montbui.html
CLASS:PUBLIC
END:VEVENT
END:VCALENDAR
