BEGIN:VCALENDAR
VERSION:2.0
CALSCALE:GREGORIAN
PRODID:-//Diputació de Barcelona//DibaCMS//EN
BEGIN:VEVENT
UID:26132
DTSTAMP:20260422T041908
DTSTART:20240224T120000
DTEND:20240224T120000
SUMMARY:Visita comentada a l’exposició “Mort i oblit a Djelfa. L’exili de Joaquim Picañol i Xalabarder i família”
LOCATION:Plaça de la Font del Lleó, 20 08140 Caldes de Montbui
METHOD:PUBLISH
X-WR-CALNAME:caldesm@caldesdemontbui.cat
X-WR-TIMEZONE:Europe/Madrid
DESCRIPTION:
URI:https://www.caldesdemontbui.cat/actualitat/agenda/26132-visita-comentada-a-lexposicio-mort-i-oblit-a-djelfa-lexili-de-joaquim-picanol-i-xalabarder-i-familia.html
CLASS:PUBLIC
END:VEVENT
END:VCALENDAR
