BEGIN:VCALENDAR
VERSION:2.0
CALSCALE:GREGORIAN
PRODID:-//Diputació de Barcelona//DibaCMS//EN
BEGIN:VEVENT
UID:26119
DTSTAMP:20260421T203509
DTSTART:20240411T180000
DTEND:20240411T180000
SUMMARY:Cicle de dones. Conferència "Quadres que amaguen secrets" a càrrec de Rosa Ribas
LOCATION: Corredossos de Baix, 9-11 (antic 1) 8140 Caldes de Montbui
METHOD:PUBLISH
X-WR-CALNAME:caldesm@caldesdemontbui.cat
X-WR-TIMEZONE:Europe/Madrid
DESCRIPTION:
URI:https://www.caldesdemontbui.cat/actualitat/agenda/cicle-de-dones-conferencia-quadres-que-amaguen-secrets-a-carrec-de-rosa-ribas.html
CLASS:PUBLIC
END:VEVENT
END:VCALENDAR
