BEGIN:VCALENDAR
VERSION:2.0
CALSCALE:GREGORIAN
PRODID:-//Diputació de Barcelona//DibaCMS//EN
BEGIN:VEVENT
UID:26104
DTSTAMP:20260422T125941
DTSTART:20240224T193000
DTEND:20240224T193000
SUMMARY:Maridatge musical "Notes divines"
LOCATION:Carrer del Pont, 3 08140 Caldes de Montbui
METHOD:PUBLISH
X-WR-CALNAME:caldesm@caldesdemontbui.cat
X-WR-TIMEZONE:Europe/Madrid
DESCRIPTION:
URI:https://www.caldesdemontbui.cat/actualitat/agenda/maridatge-musical-notes-divines.html
CLASS:PUBLIC
END:VEVENT
END:VCALENDAR
