BEGIN:VCALENDAR
VERSION:2.0
CALSCALE:GREGORIAN
PRODID:-//Diputació de Barcelona//DibaCMS//EN
BEGIN:VEVENT
UID:26095
DTSTAMP:20260422T025819
DTSTART:20240210T120000
DTEND:20240210T120000
SUMMARY:Narració de contes per a petits lectors. Petits, petits: Contes per a fer passar el fred
LOCATION:Santa Teresa, 3-5 08140 Caldes de Montbui
METHOD:PUBLISH
X-WR-CALNAME:caldesm@caldesdemontbui.cat
X-WR-TIMEZONE:Europe/Madrid
DESCRIPTION:
URI:https://www.caldesdemontbui.cat/actualitat/agenda/narracio-de-contes-per-a-petits-lectors-petits-petits-contes-per-a-fer-passar-el-fred.html
CLASS:PUBLIC
END:VEVENT
END:VCALENDAR
