BEGIN:VCALENDAR
VERSION:2.0
CALSCALE:GREGORIAN
PRODID:-//Diputació de Barcelona//DibaCMS//EN
BEGIN:VEVENT
UID:26077
DTSTAMP:20260422T072816
DTSTART:20240203T120000
DTEND:20240203T120000
SUMMARY:Teatre "Mar i Cel"
LOCATION:
METHOD:PUBLISH
X-WR-CALNAME:caldesm@caldesdemontbui.cat
X-WR-TIMEZONE:Europe/Madrid
DESCRIPTION:5è musical solidari Caldes de Montbui 

URI:https://www.caldesdemontbui.cat/actualitat/agenda/26077-teatre-mar-i-cel.html
CLASS:PUBLIC
END:VEVENT
END:VCALENDAR
