BEGIN:VCALENDAR
VERSION:2.0
CALSCALE:GREGORIAN
PRODID:-//Diputació de Barcelona//DibaCMS//EN
BEGIN:VEVENT
UID:26065
DTSTAMP:20260422T055450
DTSTART:20240204T193000
DTEND:20240204T193000
SUMMARY:Concert "Os Chotos"
LOCATION:Corredossos de Baix, 9-11 08140 Caldes de Montbui
METHOD:PUBLISH
X-WR-CALNAME:caldesm@caldesdemontbui.cat
X-WR-TIMEZONE:Europe/Madrid
DESCRIPTION:
URI:https://www.caldesdemontbui.cat/actualitat/agenda/concert-os-chotos.html
CLASS:PUBLIC
END:VEVENT
END:VCALENDAR
