BEGIN:VCALENDAR
VERSION:2.0
CALSCALE:GREGORIAN
PRODID:-//Diputació de Barcelona//DibaCMS//EN
BEGIN:VEVENT
UID:26064
DTSTAMP:20260422T060053
DTSTART:20240203T200000
DTEND:20240203T200000
SUMMARY:Teatre "He mort el pop"
LOCATION: Corredossos de Baix, 9-11 (antic 1) 8140 Caldes de Montbui
METHOD:PUBLISH
X-WR-CALNAME:caldesm@caldesdemontbui.cat
X-WR-TIMEZONE:Europe/Madrid
DESCRIPTION:
URI:https://www.caldesdemontbui.cat/actualitat/agenda/teatre-he-mort-el-pop.html
CLASS:PUBLIC
END:VEVENT
END:VCALENDAR
