BEGIN:VCALENDAR
VERSION:2.0
CALSCALE:GREGORIAN
PRODID:-//Diputació de Barcelona//DibaCMS//EN
BEGIN:VEVENT
UID:26047
DTSTAMP:20260422T061730
DTSTART:20240121T100000
DTEND:20240121T140000
SUMMARY:La Fira d’antiquaris i brocanters del mes de gener es farà a la Plaça de la Font del Lleó
LOCATION:
METHOD:PUBLISH
X-WR-CALNAME:caldesm@caldesdemontbui.cat
X-WR-TIMEZONE:Europe/Madrid
DESCRIPTION:
URI:https://www.caldesdemontbui.cat/actualitat/agenda/la-fira-dantiquaris-i-brocanters-del-mes-de-gener-es-fara-a-la-placa-de-la-font-del-lleo.html
CLASS:PUBLIC
END:VEVENT
END:VCALENDAR
