BEGIN:VCALENDAR
VERSION:2.0
CALSCALE:GREGORIAN
PRODID:-//Diputació de Barcelona//DibaCMS//EN
BEGIN:VEVENT
UID:26041
DTSTAMP:20260422T093415
DTSTART:20240120T170000
DTEND:20240120T170000
SUMMARY:Festes de Sant Antoni Abat 2024 
LOCATION:
METHOD:PUBLISH
X-WR-CALNAME:caldesm@caldesdemontbui.cat
X-WR-TIMEZONE:Europe/Madrid
DESCRIPTION:
URI:https://www.caldesdemontbui.cat/actualitat/agenda/26041-festes-de-sant-antoni-abat-2024-.html
CLASS:PUBLIC
END:VEVENT
END:VCALENDAR
