BEGIN:VCALENDAR
VERSION:2.0
CALSCALE:GREGORIAN
PRODID:-//Diputació de Barcelona//DibaCMS//EN
BEGIN:VEVENT
UID:26033
DTSTAMP:20260422T012121
DTSTART:20240320T190000
DTEND:20240320T190000
SUMMARY:Conferència "La maledicció dels faraons. El descobriment de la tomba de Tutankamon"
LOCATION:Carrer del Pont, 3 08140 Caldes de Montbui
METHOD:PUBLISH
X-WR-CALNAME:caldesm@caldesdemontbui.cat
X-WR-TIMEZONE:Europe/Madrid
DESCRIPTION:
URI:https://www.caldesdemontbui.cat/actualitat/agenda/conferencia-la-malediccio-dels-faraons-el-descobriment-de-la-tomba-de-tutankamon.html
CLASS:PUBLIC
END:VEVENT
END:VCALENDAR
