BEGIN:VCALENDAR
VERSION:2.0
CALSCALE:GREGORIAN
PRODID:-//Diputació de Barcelona//DibaCMS//EN
BEGIN:VEVENT
UID:26030
DTSTAMP:20260422T044021
DTSTART:20240207T190000
DTEND:20240207T190000
SUMMARY:Conferència "Creences i ritualitat associada a l'ús i maneig dels recursos naturals a llatinoamèrica"
LOCATION:Carrer del Pont, 3 08140 Caldes de Montbui
METHOD:PUBLISH
X-WR-CALNAME:caldesm@caldesdemontbui.cat
X-WR-TIMEZONE:Europe/Madrid
DESCRIPTION:
URI:https://www.caldesdemontbui.cat/actualitat/agenda/conferencia-creences-i-ritualitat-associada-a-lus-i-maneig-dels-recursos-naturals-a-llatinoamerica.html
CLASS:PUBLIC
END:VEVENT
END:VCALENDAR
