BEGIN:VCALENDAR
VERSION:2.0
CALSCALE:GREGORIAN
PRODID:-//Diputació de Barcelona//DibaCMS//EN
BEGIN:VEVENT
UID:26028
DTSTAMP:20260422T025741
DTSTART:20240110T190000
DTEND:20240110T190000
SUMMARY:Conferència "Els Almogàvers. La gran epopeia medieval dels catalans"
LOCATION:Carrer del Pont, 3 08140 Caldes de Montbui
METHOD:PUBLISH
X-WR-CALNAME:caldesm@caldesdemontbui.cat
X-WR-TIMEZONE:Europe/Madrid
DESCRIPTION:
URI:https://www.caldesdemontbui.cat/actualitat/agenda/conferencia-els-almogavers-la-gran-epopeia-medieval-dels-catalans.html
CLASS:PUBLIC
END:VEVENT
END:VCALENDAR
