BEGIN:VCALENDAR
VERSION:2.0
CALSCALE:GREGORIAN
PRODID:-//Diputació de Barcelona//DibaCMS//EN
BEGIN:VEVENT
UID:26026
DTSTAMP:20260422T175443
DTSTART:20240118T173000
DTEND:20240118T190000
SUMMARY:La història amb una perspectiva de gènere a càrrec de Victòria Ortega
LOCATION:Josep Germà, 2 08140 Caldes de Montbui
METHOD:PUBLISH
X-WR-CALNAME:caldesm@caldesdemontbui.cat
X-WR-TIMEZONE:Europe/Madrid
DESCRIPTION:
URI:https://www.caldesdemontbui.cat/actualitat/agenda/26026-la-historia-amb-una-perspectiva-de-genere-a-carrec-de-victoria-ortega.html
CLASS:PUBLIC
END:VEVENT
END:VCALENDAR
