BEGIN:VCALENDAR
VERSION:2.0
CALSCALE:GREGORIAN
PRODID:-//Diputació de Barcelona//DibaCMS//EN
BEGIN:VEVENT
UID:26021
DTSTAMP:20260422T060015
DTSTART:20240111T193000
DTEND:20240128T210000
SUMMARY:Exposició “Cuinart” de Laia Serra 
LOCATION: Corredossos de Baix, 9-11 (antic 1) 8140 Caldes de Montbui
METHOD:PUBLISH
X-WR-CALNAME:caldesm@caldesdemontbui.cat
X-WR-TIMEZONE:Europe/Madrid
DESCRIPTION:
URI:https://www.caldesdemontbui.cat/actualitat/agenda/exposicio-cuinart-de-laia-serra-.html
CLASS:PUBLIC
END:VEVENT
END:VCALENDAR
