BEGIN:VCALENDAR
VERSION:2.0
CALSCALE:GREGORIAN
PRODID:-//Diputació de Barcelona//DibaCMS//EN
BEGIN:VEVENT
UID:26009
DTSTAMP:20260422T140841
DTSTART:20231223T090000
DTEND:20231223T130000
SUMMARY:1r Torneig de Rugbi Touch
LOCATION:
METHOD:PUBLISH
X-WR-CALNAME:caldesm@caldesdemontbui.cat
X-WR-TIMEZONE:Europe/Madrid
DESCRIPTION:
URI:https://www.caldesdemontbui.cat/actualitat/agenda/1r-torneig-de-rugbi-touch.html
CLASS:PUBLIC
END:VEVENT
END:VCALENDAR
