BEGIN:VCALENDAR
VERSION:2.0
CALSCALE:GREGORIAN
PRODID:-//Diputació de Barcelona//DibaCMS//EN
BEGIN:VEVENT
UID:26001
DTSTAMP:20260422T111410
DTSTART:20231221T193000
DTEND:20231221T193000
SUMMARY:Exposició "Nena!!! què hi tens al cap" de Marga lef
LOCATION: Corredossos de Baix, 9-11 (antic 1) 8140 Caldes de Montbui
METHOD:PUBLISH
X-WR-CALNAME:caldesm@caldesdemontbui.cat
X-WR-TIMEZONE:Europe/Madrid
DESCRIPTION:
URI:https://www.caldesdemontbui.cat/actualitat/agenda/exposicio-nena-que-hi-tens-al-cap-de-marga-lef.html
CLASS:PUBLIC
END:VEVENT
END:VCALENDAR
