BEGIN:VCALENDAR
VERSION:2.0
CALSCALE:GREGORIAN
PRODID:-//Diputació de Barcelona//DibaCMS//EN
BEGIN:VEVENT
UID:25982
DTSTAMP:20260422T073312
DTSTART:20231222T103000
DTEND:20231231T200000
SUMMARY:Nadal 2023-2024. Trenet de Nadal
LOCATION:
METHOD:PUBLISH
X-WR-CALNAME:caldesm@caldesdemontbui.cat
X-WR-TIMEZONE:Europe/Madrid
DESCRIPTION:
URI:https://www.caldesdemontbui.cat/actualitat/agenda/nadal-2023-2024-trenet-de-nadal.html
CLASS:PUBLIC
END:VEVENT
END:VCALENDAR
