BEGIN:VCALENDAR
VERSION:2.0
CALSCALE:GREGORIAN
PRODID:-//Diputació de Barcelona//DibaCMS//EN
BEGIN:VEVENT
UID:25980
DTSTAMP:20260422T073056
DTSTART:20231222T110000
DTEND:20240108T210000
SUMMARY:Nadal 2023-2024.  Exposició “Nena!!! Què hi tens al cap?”
LOCATION: Corredossos de Baix, 9-11 (antic 1) 8140 Caldes de Montbui
METHOD:PUBLISH
X-WR-CALNAME:caldesm@caldesdemontbui.cat
X-WR-TIMEZONE:Europe/Madrid
DESCRIPTION:
URI:https://www.caldesdemontbui.cat/actualitat/agenda/nadal-2023-2024-exposicio-nena-que-hi-tens-al-cap.html
CLASS:PUBLIC
END:VEVENT
END:VCALENDAR
