BEGIN:VCALENDAR
VERSION:2.0
CALSCALE:GREGORIAN
PRODID:-//Diputació de Barcelona//DibaCMS//EN
BEGIN:VEVENT
UID:25979
DTSTAMP:20260422T042314
DTSTART:20231222T090000
DTEND:20240105T133000
SUMMARY:Nadal 2023-2024. Campus de Nadal “Nadal sobre rodes”
LOCATION:Passatge Torre Roja, s/n 08140 Caldes de Montbui
METHOD:PUBLISH
X-WR-CALNAME:caldesm@caldesdemontbui.cat
X-WR-TIMEZONE:Europe/Madrid
DESCRIPTION:
URI:https://www.caldesdemontbui.cat/actualitat/agenda/nadal-2023-2024-campus-de-nadal-nadal-sobre-rodes.html
CLASS:PUBLIC
END:VEVENT
END:VCALENDAR
