BEGIN:VCALENDAR
VERSION:2.0
CALSCALE:GREGORIAN
PRODID:-//Diputació de Barcelona//DibaCMS//EN
BEGIN:VEVENT
UID:25978
DTSTAMP:20260422T074153
DTSTART:20231221T090000
DTEND:20240105T133000
SUMMARY:Nadal 2023-2024. Activitats esportives de Nadal 2023
LOCATION:Complex Esportiu les Cremades 08140 Caldes de Montbui
METHOD:PUBLISH
X-WR-CALNAME:caldesm@caldesdemontbui.cat
X-WR-TIMEZONE:Europe/Madrid
DESCRIPTION:
URI:https://www.caldesdemontbui.cat/actualitat/agenda/nadal-2023-2024-activitats-esportives-de-nadal-2023.html
CLASS:PUBLIC
END:VEVENT
END:VCALENDAR
