BEGIN:VCALENDAR
VERSION:2.0
CALSCALE:GREGORIAN
PRODID:-//Diputació de Barcelona//DibaCMS//EN
BEGIN:VEVENT
UID:25977
DTSTAMP:20260422T111148
DTSTART:20240102T130000
DTEND:20240102T130000
SUMMARY:Nadal 2023-2024. Sorteig de tres paneres de Nadal al Mercat Setmanal
LOCATION:
METHOD:PUBLISH
X-WR-CALNAME:caldesm@caldesdemontbui.cat
X-WR-TIMEZONE:Europe/Madrid
DESCRIPTION:
URI:https://www.caldesdemontbui.cat/actualitat/agenda/nadal-2023-2024-sorteig-de-tres-paneres-de-nadal-al-mercat-setmanal.html
CLASS:PUBLIC
END:VEVENT
END:VCALENDAR
