BEGIN:VCALENDAR
VERSION:2.0
CALSCALE:GREGORIAN
PRODID:-//Diputació de Barcelona//DibaCMS//EN
BEGIN:VEVENT
UID:25975
DTSTAMP:20260422T104648
DTSTART:20240102T180000
DTEND:20240102T180000
SUMMARY:Nadal 2023-2024. Ens visita la Missatgera del Llibreter Reial
LOCATION:Santa Teresa, 3-5 08140 Caldes de Montbui
METHOD:PUBLISH
X-WR-CALNAME:caldesm@caldesdemontbui.cat
X-WR-TIMEZONE:Europe/Madrid
DESCRIPTION:
URI:https://www.caldesdemontbui.cat/actualitat/agenda/nadal-2023-2024-ens-visita-la-missatgera-del-llibreter-reial.html
CLASS:PUBLIC
END:VEVENT
END:VCALENDAR
