BEGIN:VCALENDAR
VERSION:2.0
CALSCALE:GREGORIAN
PRODID:-//Diputació de Barcelona//DibaCMS//EN
BEGIN:VEVENT
UID:25974
DTSTAMP:20260422T024803
DTSTART:20240105T190000
DTEND:20240105T203000
SUMMARY:Nadal 2023-2024.  Cavalcada de Reis
LOCATION:
METHOD:PUBLISH
X-WR-CALNAME:caldesm@caldesdemontbui.cat
X-WR-TIMEZONE:Europe/Madrid
DESCRIPTION:
URI:https://www.caldesdemontbui.cat/actualitat/agenda/nadal-2023-2024-cavalcada-de-reis.html
CLASS:PUBLIC
END:VEVENT
END:VCALENDAR
