BEGIN:VCALENDAR
VERSION:2.0
CALSCALE:GREGORIAN
PRODID:-//Diputació de Barcelona//DibaCMS//EN
BEGIN:VEVENT
UID:25972
DTSTAMP:20260422T141507
DTSTART:20240104T160000
DTEND:20240104T200000
SUMMARY:Nadal 2023-2024. Parc Reial 
LOCATION:
METHOD:PUBLISH
X-WR-CALNAME:caldesm@caldesdemontbui.cat
X-WR-TIMEZONE:Europe/Madrid
DESCRIPTION:
URI:https://www.caldesdemontbui.cat/actualitat/agenda/nadal-2023-2024-parc-reial-.html
CLASS:PUBLIC
END:VEVENT
END:VCALENDAR
