BEGIN:VCALENDAR
VERSION:2.0
CALSCALE:GREGORIAN
PRODID:-//Diputació de Barcelona//DibaCMS//EN
BEGIN:VEVENT
UID:25970
DTSTAMP:20260422T155312
DTSTART:20240101T183000
DTEND:20240101T183000
SUMMARY:Nadal 2023-2024. “Els Pastorets” de Josep M. Folch i Torres 
LOCATION:
METHOD:PUBLISH
X-WR-CALNAME:caldesm@caldesdemontbui.cat
X-WR-TIMEZONE:Europe/Madrid
DESCRIPTION:
URI:https://www.caldesdemontbui.cat/actualitat/agenda/25970-nadal-2023-2024-els-pastorets-de-josep-m-folch-i-torres-.html
CLASS:PUBLIC
END:VEVENT
END:VCALENDAR
