BEGIN:VCALENDAR
VERSION:2.0
CALSCALE:GREGORIAN
PRODID:-//Diputació de Barcelona//DibaCMS//EN
BEGIN:VEVENT
UID:25969
DTSTAMP:20260422T111335
DTSTART:20231231T080000
DTEND:20231231T220000
SUMMARY:Nadal 2023-2024. Torneig 4x4 Patins de Gel 
LOCATION:Passatge Torre Roja, s/n 08140 Caldes de Montbui
METHOD:PUBLISH
X-WR-CALNAME:caldesm@caldesdemontbui.cat
X-WR-TIMEZONE:Europe/Madrid
DESCRIPTION:
URI:https://www.caldesdemontbui.cat/actualitat/agenda/nadal-2023-2024-torneig-4x4-patins-de-gel-.html
CLASS:PUBLIC
END:VEVENT
END:VCALENDAR
