BEGIN:VCALENDAR
VERSION:2.0
CALSCALE:GREGORIAN
PRODID:-//Diputació de Barcelona//DibaCMS//EN
BEGIN:VEVENT
UID:25965
DTSTAMP:20260422T091156
DTSTART:20231227T163000
DTEND:20231227T163000
SUMMARY:Nadal 2023-2024. “Els Pastorets” a càrrec del Grup d’animació de la Fundació Santa Susanna
LOCATION:
METHOD:PUBLISH
X-WR-CALNAME:caldesm@caldesdemontbui.cat
X-WR-TIMEZONE:Europe/Madrid
DESCRIPTION:
URI:https://www.caldesdemontbui.cat/actualitat/agenda/nadal-2023-2024-els-pastorets-a-carrec-del-grup-danimacio-de-la-fundacio-santa-susanna.html
CLASS:PUBLIC
END:VEVENT
END:VCALENDAR
