BEGIN:VCALENDAR
VERSION:2.0
CALSCALE:GREGORIAN
PRODID:-//Diputació de Barcelona//DibaCMS//EN
BEGIN:VEVENT
UID:25957
DTSTAMP:20260422T124333
DTSTART:20231223T180000
DTEND:20231223T180000
SUMMARY:Nadal 2023-2024. Concert Nadal de la Coral del Centre amb la Coral de Vilanova del Vallès
LOCATION:Carrer del Pont, 3 08140 Caldes de Montbui
METHOD:PUBLISH
X-WR-CALNAME:caldesm@caldesdemontbui.cat
X-WR-TIMEZONE:Europe/Madrid
DESCRIPTION:
URI:https://www.caldesdemontbui.cat/actualitat/agenda/nadal-2023-2024-concert-nadal-de-la-coral-del-centre-amb-la-coral-de-vilanova-del-valles.html
CLASS:PUBLIC
END:VEVENT
END:VCALENDAR
