BEGIN:VCALENDAR
VERSION:2.0
CALSCALE:GREGORIAN
PRODID:-//Diputació de Barcelona//DibaCMS//EN
BEGIN:VEVENT
UID:25956
DTSTAMP:20260422T123030
DTSTART:20231223T180000
DTEND:20231223T180000
SUMMARY:Nadal 2023-2024.  Inauguració de les catifes de flors de Nadal.
LOCATION:
METHOD:PUBLISH
X-WR-CALNAME:caldesm@caldesdemontbui.cat
X-WR-TIMEZONE:Europe/Madrid
DESCRIPTION:
URI:https://www.caldesdemontbui.cat/actualitat/agenda/nadal-2023-2024-inauguracio-de-les-catifes-de-flors-de-nadal.html
CLASS:PUBLIC
END:VEVENT
END:VCALENDAR
