BEGIN:VCALENDAR
VERSION:2.0
CALSCALE:GREGORIAN
PRODID:-//Diputació de Barcelona//DibaCMS//EN
BEGIN:VEVENT
UID:25955
DTSTAMP:20260422T092015
DTSTART:20231223T093000
DTEND:20231223T093000
SUMMARY:Nadal 2023-2024. Matx de Pretemporada d’escacs
LOCATION:C. Mestre Gregori Montserrat, 4 08140 Caldes de Montbui
METHOD:PUBLISH
X-WR-CALNAME:caldesm@caldesdemontbui.cat
X-WR-TIMEZONE:Europe/Madrid
DESCRIPTION:
URI:https://www.caldesdemontbui.cat/actualitat/agenda/nadal-2023-2024-matx-de-pretemporada-descacs.html
CLASS:PUBLIC
END:VEVENT
END:VCALENDAR
