BEGIN:VCALENDAR
VERSION:2.0
CALSCALE:GREGORIAN
PRODID:-//Diputació de Barcelona//DibaCMS//EN
BEGIN:VEVENT
UID:25954
DTSTAMP:20260422T140524
DTSTART:20231223T090000
DTEND:20231223T140000
SUMMARY:Nadal 2023-2024. 3x3 Bàsquet CN Caldes
LOCATION:Zona Municipal Esportiva Les Cremades 08140 Caldes de Montbui
METHOD:PUBLISH
X-WR-CALNAME:caldesm@caldesdemontbui.cat
X-WR-TIMEZONE:Europe/Madrid
DESCRIPTION:
URI:https://www.caldesdemontbui.cat/actualitat/agenda/nadal-2023-2024-3x3-basquet-cn-caldes.html
CLASS:PUBLIC
END:VEVENT
END:VCALENDAR
