BEGIN:VCALENDAR
VERSION:2.0
CALSCALE:GREGORIAN
PRODID:-//Diputació de Barcelona//DibaCMS//EN
BEGIN:VEVENT
UID:25952
DTSTAMP:20260422T091125
DTSTART:20231222T200000
DTEND:20231222T200000
SUMMARY:Nadal 2023-2024. Escola de Castells 
LOCATION:
METHOD:PUBLISH
X-WR-CALNAME:caldesm@caldesdemontbui.cat
X-WR-TIMEZONE:Europe/Madrid
DESCRIPTION:
URI:https://www.caldesdemontbui.cat/actualitat/agenda/nadal-2023-2024-escola-de-castells-.html
CLASS:PUBLIC
END:VEVENT
END:VCALENDAR
