BEGIN:VCALENDAR
VERSION:2.0
CALSCALE:GREGORIAN
PRODID:-//Diputació de Barcelona//DibaCMS//EN
BEGIN:VEVENT
UID:25950
DTSTAMP:20260422T091422
DTSTART:20231222T170000
DTEND:20231222T170000
SUMMARY:Nadal 2023-2024.  Festival de dansa
LOCATION:Carrer del Pont, 3 08140 Caldes de Montbui
METHOD:PUBLISH
X-WR-CALNAME:caldesm@caldesdemontbui.cat
X-WR-TIMEZONE:Europe/Madrid
DESCRIPTION:
URI:https://www.caldesdemontbui.cat/actualitat/agenda/nadal-2023-2024-festival-de-dansa.html
CLASS:PUBLIC
END:VEVENT
END:VCALENDAR
