BEGIN:VCALENDAR
VERSION:2.0
CALSCALE:GREGORIAN
PRODID:-//Diputació de Barcelona//DibaCMS//EN
BEGIN:VEVENT
UID:25947
DTSTAMP:20260422T060129
DTSTART:20231220T180000
DTEND:20231220T180000
SUMMARY:Nadal 2023-2024. Concert de Nadal de corals i orquestres
LOCATION:
METHOD:PUBLISH
X-WR-CALNAME:caldesm@caldesdemontbui.cat
X-WR-TIMEZONE:Europe/Madrid
DESCRIPTION:
URI:https://www.caldesdemontbui.cat/actualitat/agenda/nadal-2023-2024-concert-de-nadal-de-corals-i-orquestres.html
CLASS:PUBLIC
END:VEVENT
END:VCALENDAR
