BEGIN:VCALENDAR
VERSION:2.0
CALSCALE:GREGORIAN
PRODID:-//Diputació de Barcelona//DibaCMS//EN
BEGIN:VEVENT
UID:25946
DTSTAMP:20260422T122254
DTSTART:20231220T190000
DTEND:20231220T190000
SUMMARY:Nadal 2023-2024.  Festa de Nadal i Inauguració del pessebre
LOCATION:
METHOD:PUBLISH
X-WR-CALNAME:caldesm@caldesdemontbui.cat
X-WR-TIMEZONE:Europe/Madrid
DESCRIPTION:
URI:https://www.caldesdemontbui.cat/actualitat/agenda/nadal-2023-2024-festa-de-nadal-i-inauguracio-del-pessebre.html
CLASS:PUBLIC
END:VEVENT
END:VCALENDAR
