BEGIN:VCALENDAR
VERSION:2.0
CALSCALE:GREGORIAN
PRODID:-//Diputació de Barcelona//DibaCMS//EN
BEGIN:VEVENT
UID:25945
DTSTAMP:20260423T011223
DTSTART:20231217T103000
DTEND:20231217T103000
SUMMARY:Nadal 2023-2024.   Christmas Can Valls-Torre Negrell
LOCATION:
METHOD:PUBLISH
X-WR-CALNAME:caldesm@caldesdemontbui.cat
X-WR-TIMEZONE:Europe/Madrid
DESCRIPTION:
URI:https://www.caldesdemontbui.cat/actualitat/agenda/nadal-2023-2024-christmas-can-valls-torre-negrell.html
CLASS:PUBLIC
END:VEVENT
END:VCALENDAR
